BEGIN:VCALENDAR
VERSION:2.0
PRODID:-//eventon.com NONSGML v1.0//EN
CALSCALE:GREGORIAN
METHOD:PUBLISH
BEGIN:VEVENT
UID:69e7ec8047381
DTSTAMP:20260421T233040
DTSTART:20161126T110000Z
DTEND:20161126T193000Z
TZID:UTC
LOCATION:
SUMMARY:Veganer Wintermarkt Dresden
DESCRIPTION:Nach dem großen Erfolg im letzten Jahr findet 2016 der zweite vegane Wintermarkt in Dresden statt und wir sind wieder mit dabei. Ihr könnt Euch auf Crêpes\,  Stollen\,  Kinderschminken\,  Infomaterial und Selbstgebasteltes freuen.\nhttps://anima-ev.de/veranstaltung/veganer-wintermarkt-dresden/
URL:https://anima-ev.de/veranstaltung/veganer-wintermarkt-dresden/
END:VEVENT
END:VCALENDAR